BEGIN:VCALENDAR
VERSION:2.0
PRODID:-//Personalwirtschaft - ECPv6.15.18//NONSGML v1.0//EN
CALSCALE:GREGORIAN
METHOD:PUBLISH
X-WR-CALNAME:Personalwirtschaft
X-ORIGINAL-URL:https://www.personalwirtschaft.de
X-WR-CALDESC:Veranstaltungen für Personalwirtschaft
REFRESH-INTERVAL;VALUE=DURATION:PT1H
X-Robots-Tag:noindex
X-PUBLISHED-TTL:PT1H
BEGIN:VTIMEZONE
TZID:Europe/Berlin
BEGIN:DAYLIGHT
TZOFFSETFROM:+0100
TZOFFSETTO:+0200
TZNAME:CEST
DTSTART:20250330T010000
END:DAYLIGHT
BEGIN:STANDARD
TZOFFSETFROM:+0200
TZOFFSETTO:+0100
TZNAME:CET
DTSTART:20251026T010000
END:STANDARD
BEGIN:DAYLIGHT
TZOFFSETFROM:+0100
TZOFFSETTO:+0200
TZNAME:CEST
DTSTART:20260329T010000
END:DAYLIGHT
BEGIN:STANDARD
TZOFFSETFROM:+0200
TZOFFSETTO:+0100
TZNAME:CET
DTSTART:20261025T010000
END:STANDARD
BEGIN:DAYLIGHT
TZOFFSETFROM:+0100
TZOFFSETTO:+0200
TZNAME:CEST
DTSTART:20270328T010000
END:DAYLIGHT
BEGIN:STANDARD
TZOFFSETFROM:+0200
TZOFFSETTO:+0100
TZNAME:CET
DTSTART:20271031T010000
END:STANDARD
END:VTIMEZONE
BEGIN:VEVENT
DTSTART;TZID=Europe/Berlin:20261013T090000
DTEND;TZID=Europe/Berlin:20261014T130000
DTSTAMP:20260421T154631
CREATED:20260213T084248Z
LAST-MODIFIED:20260213T084248Z
UID:200287-1791882000-1791982800@www.personalwirtschaft.de
SUMMARY:Talent Pro Online Konferenz
DESCRIPTION:Unter dem Motto „Inspiring Recruiting Professionals“ können Teilnehmende beim zweitägigen Online-Event Know-how und Lösungen rund ums Recruiting\, Talentmanagement und Employer Branding erlangen. In 30-minütigen Online-Seminaren und anschließenden 15-minütigen Fragerunden mit Recruiting- und Marketing-Expertinnen und -Experten werden Fragen geklärt\, die die HR-Community bewegen.
URL:https://www.personalwirtschaft.de/veranstaltung/talent-pro-online-konferenz/
LOCATION:online
END:VEVENT
BEGIN:VEVENT
DTSTART;VALUE=DATE:20261020
DTEND;VALUE=DATE:20261022
DTSTAMP:20260421T154631
CREATED:20260302T165339Z
LAST-MODIFIED:20260302T165339Z
UID:201228-1792454400-1792627199@www.personalwirtschaft.de
SUMMARY:Personalmesse München powered by Zukunft Personal
DESCRIPTION:Unter dem Motto „Erfolgsfaktor Recruiting\, Personalmanagement\, BGM und Weiterbildung“ werden die spannendsten und aktuellsten Themen rund um die Personalauswahl\, Mitarbeiterführung\, E-Learning\, Personalentwicklung sowie das betriebliche Gesundheitsmanagement präsentiert. \nDie Personalmesse München powered by Zukunft Personal richtet sich an: \n\nPersonalleiter und HR:Expert:innen: Fachkräfte\, die sich mit Recruiting\, Personalentwicklung und-management beschäftigen.\nFührungskräfte von KMUs: Personen\, die den „Erfolgsfaktor Mensch“ in ihren Organisationen optimieren wollen.\nEntscheider in der HR-Branche: Zum Austausch über Trends wie KI im Recruiting\, New Work oder betriebliches Gesundheitsmanagement.\nDienstleister und Anbieter von HR-Lösungen: Unternehmen\, die Produkte und Dienstleistungen im Bereich Personalwesen präsentieren.
URL:https://www.personalwirtschaft.de/veranstaltung/personalmesse-muenchen-powered-by-zukunft-personal/
END:VEVENT
BEGIN:VEVENT
DTSTART;TZID=Europe/Berlin:20261022T093000
DTEND;TZID=Europe/Berlin:20261023T163000
DTSTAMP:20260421T154631
CREATED:20260213T085839Z
LAST-MODIFIED:20260213T130505Z
UID:200290-1792661400-1792773000@www.personalwirtschaft.de
SUMMARY:Her Career
DESCRIPTION:„Unapologetic femality“. Die Her Career Expo bietet ein vielseitiges Angebot für Absolventinnen\, Quereinsteigende\, Fach- und Führungskräfte\, Gründerinnen und Unternehmen. Sie ermöglicht Frauen und allen weiblich gelesenen Menschen\, sich zu vernetzen\, gegenseitig zu inspirieren und Erfahrungen auszutauschen.
URL:https://www.personalwirtschaft.de/veranstaltung/her-career/
LOCATION:MOC\, Lilienthalallee 40\, München\, 80939\, Germany
END:VEVENT
BEGIN:VEVENT
DTSTART;VALUE=DATE:20261111
DTEND;VALUE=DATE:20261113
DTSTAMP:20260421T154631
CREATED:20260213T131950Z
LAST-MODIFIED:20260225T130726Z
UID:200311-1794355200-1794527999@www.personalwirtschaft.de
SUMMARY:Deutscher Human Resources Summit 2026
DESCRIPTION:Der Summit ist das Netzwerktreffen für Personalvorstände\, CHROs und HR-Führungskräfte. Unter dem Motto „Nur Mut – Take the lead.“ bietet der Summit 2026 inspirierende und praxisnahe Impulse sowie herausragende Gelegenheiten zum Netzwerken. Hier können Sie mit anderen HR-Führungskräften und Personalvorständen über Best Practices\, Herausforderungen und Entwicklungen der Personalarbeit in den Austausch gehen. Am Abend wird der renommierte Deutsche Personalwirtschaftspreis verliehen und innovativen HR-Projekten eine Bühne gegeben.
URL:https://www.personalwirtschaft.de/veranstaltung/deutscher-human-resources-summit-2/
LOCATION:RheinMain CongressCenter (RMCC)\, Friedrich-Ebert-Allee 1\, Wiesbaden\, Hessen\, 65185
END:VEVENT
BEGIN:VEVENT
DTSTART;TZID=Europe/Berlin:20261111T090000
DTEND;TZID=Europe/Berlin:20261111T173000
DTSTAMP:20260421T154631
CREATED:20260213T130413Z
LAST-MODIFIED:20260213T130413Z
UID:200308-1794387600-1794418200@www.personalwirtschaft.de
SUMMARY:L&D Pro
DESCRIPTION:Die Expo für Learning und Development Professionals bietet Wissen und Austausch zu neuesten Lern- und Entwicklungstrends. Es gibt Keynotes\, Best Practices und Live-Trainings\, in denen sich HR-Expertinnen und Experten sowie L&D-Profis über die Zukunft der Mitarbeiterentwicklung austauschen können.
URL:https://www.personalwirtschaft.de/veranstaltung/ld-pro/
LOCATION:MTC World of Fashion\, Taunusstraße 45\, München\, 80807
END:VEVENT
BEGIN:VEVENT
DTSTART;VALUE=DATE:20261118
DTEND;VALUE=DATE:20261120
DTSTAMP:20260421T154631
CREATED:20260213T133123Z
LAST-MODIFIED:20260213T133123Z
UID:200316-1794960000-1795132799@www.personalwirtschaft.de
SUMMARY:KI-X HR Convention
DESCRIPTION:„Ist deine HR ready für KI?“. Das Event liefert praxisnahe Workshops\, Keynotes und Networking-Möglichkeiten rund um den Einsatz von Künstlicher Intelligenz im Personalwesen und was es dafür braucht: Ob KI-gestütztes Bewerber- und Talentmanagement\, künstliche Intelligenz in der Mitarbeiterentwicklung\, in Sachen Pre- und Onboarding oder Predictive Analytics – hier werden Impulse\, Tipps und Tricks von erprobten Praktikerinnen und Praktikern geboten.
URL:https://www.personalwirtschaft.de/veranstaltung/ki-x-hr-convention/
LOCATION:Colosseum Filmtheater Berlin\, Schönhauser Allee 123\, Berlin\, Berlin\, 10437\, Germany
END:VEVENT
BEGIN:VEVENT
DTSTART;TZID=Europe/Berlin:20261201T090000
DTEND;TZID=Europe/Berlin:20261202T133000
DTSTAMP:20260421T154631
CREATED:20260213T134251Z
LAST-MODIFIED:20260213T134251Z
UID:200320-1796115600-1796218200@www.personalwirtschaft.de
SUMMARY:Shift/HR Workforce Management Konferenz
DESCRIPTION:KI-gestützte Prognosen\, Echtzeitdaten und zunehmende Skillorientierung stellen neue Anforderuzngen an das Workforce-Management. Auf der zweitägigen Online-Konferenz werden Recruiting- und Marketing-Expertinnen und -Experten in Seminaren und anschließenden Fragerunden auf Themen eingehen\, die die HR-Community bewegen.
URL:https://www.personalwirtschaft.de/veranstaltung/shift-hr-workforce-management-konferenz/
LOCATION:online
END:VEVENT
END:VCALENDAR